BEGIN:VCALENDAR
VERSION:2.0
PRODID:-//Feilitzsch-Sozialwerk - ECPv6.15.16//NONSGML v1.0//EN
CALSCALE:GREGORIAN
METHOD:PUBLISH
X-WR-CALNAME:Feilitzsch-Sozialwerk
X-ORIGINAL-URL:https://www.feilitzsch-sozialwerk.de
X-WR-CALDESC:Veranstaltungen für Feilitzsch-Sozialwerk
REFRESH-INTERVAL;VALUE=DURATION:PT1H
X-Robots-Tag:noindex
X-PUBLISHED-TTL:PT1H
BEGIN:VTIMEZONE
TZID:Europe/Berlin
BEGIN:DAYLIGHT
TZOFFSETFROM:+0100
TZOFFSETTO:+0200
TZNAME:CEST
DTSTART:20250330T010000
END:DAYLIGHT
BEGIN:STANDARD
TZOFFSETFROM:+0200
TZOFFSETTO:+0100
TZNAME:CET
DTSTART:20251026T010000
END:STANDARD
BEGIN:DAYLIGHT
TZOFFSETFROM:+0100
TZOFFSETTO:+0200
TZNAME:CEST
DTSTART:20260329T010000
END:DAYLIGHT
BEGIN:STANDARD
TZOFFSETFROM:+0200
TZOFFSETTO:+0100
TZNAME:CET
DTSTART:20261025T010000
END:STANDARD
BEGIN:DAYLIGHT
TZOFFSETFROM:+0100
TZOFFSETTO:+0200
TZNAME:CEST
DTSTART:20270328T010000
END:DAYLIGHT
BEGIN:STANDARD
TZOFFSETFROM:+0200
TZOFFSETTO:+0100
TZNAME:CET
DTSTART:20271031T010000
END:STANDARD
END:VTIMEZONE
BEGIN:VEVENT
DTSTART;VALUE=DATE:20260517
DTEND;VALUE=DATE:20260518
DTSTAMP:20260420T052226
CREATED:20260116T081352Z
LAST-MODIFIED:20260121T095834Z
UID:6561-1778976000-1779062399@www.feilitzsch-sozialwerk.de
SUMMARY:Himmelfahrtsmarsch
DESCRIPTION:Unsere Wanderung bietet Gelegenheit\, die Natur zu genießen und den Feiertag aktiv zu gestalten. Der Himmelfahrtsmarsch ist eine schöne Mischung aus Aktivität und Geselligkeit und hat sich als fester Bestandteil im Jahresverlauf etabliert. \nIn diesem Jahr machen sich alle Bewohner gemeinsam auf den Weg und wandern eine schöne Strecke rund um Münchenreuth. Dabei stehen Bewegung an der frischen Luft\, Gespräche und das gemeinsame Unterwegssein im Mittelpunkt. \nIm Anschluss wird es gemütlich: Bei Bratwürsten und einem kühlen Getränk können sich alle stärken und den Tag in geselliger Runde ausklingen lassen.
URL:https://www.feilitzsch-sozialwerk.de/termin/himmelfahrtsmarsch/
LOCATION:Münchenreuth\, Münchenreuth\, 92690
CATEGORIES:Kiesslingshaus,Haus König David,Forsthaus,Alte Schule,Ringhaus,Aubachhaus,Gut Münchenreuth,Schloss Zedtwitz,Haus Einetal
ATTACH;FMTTYPE=image/jpeg:https://www.feilitzsch-sozialwerk.de/wp-content/uploads/2026/01/Mai_Himmelfahrtsmarsch.jpg
END:VEVENT
BEGIN:VEVENT
DTSTART;TZID=Europe/Berlin:20260628T140000
DTEND;TZID=Europe/Berlin:20260628T140000
DTSTAMP:20260420T052226
CREATED:20260116T082334Z
LAST-MODIFIED:20260116T082355Z
UID:6565-1782655200-1782655200@www.feilitzsch-sozialwerk.de
SUMMARY:Sommerfest im Gut Münchenreuth
DESCRIPTION:Wir freuen uns auf einen entspannten Sommernachmittag mit Ihnen\, Ihrer Familie und allen\, die gerne dabei sein möchten. \nFreuen Sie sich auf einen bunten\, lebendigen Nachmittag mit einem Basar kreativer Arbeiten aus unseren Ergotherapien\, einer fröhlichen Spielstraße für Kinder sowie leckerem Essen\, erfrischenden Getränken und guter Musik. \nWir freuen uns ab 14:00 auf Ihr Kommen!
URL:https://www.feilitzsch-sozialwerk.de/termin/sommerfest-im-gut-muenchenreuth/
LOCATION:Gut Münchenreuth\, Rehberg 11\, Münchenreuth\, 95183
CATEGORIES:Gut Münchenreuth
ATTACH;FMTTYPE=image/jpeg:https://www.feilitzsch-sozialwerk.de/wp-content/uploads/2026/01/Juni-Sommerfest.jpg
END:VEVENT
END:VCALENDAR